BEGIN:VCALENDAR
VERSION:2.0
PRODID:-//UND Generationentandem//NONSGML v1.0//EN
BEGIN:VEVENT
UID:69e8963ca1edc@generationentandem.ch
DTSTAMP:20260422T093452Z
DTSTART:20241214T090000Z
DTEND:20241214T100000Z
SUMMARY:Schach am Samstag für alle
DESCRIPTION:Spiele das königliche Spiel im Offenen Höchhus. Mit bekannten und neuen Gesichtern kommst du in den Austausch. Egal ob schacherfahren oder komplett neu im Spiel – die Freude führt Schachinteressierte einmal im Monat zusammen.
LOCATION:Begegnungszentrum Offenes Höchhus
URL:https://generationentandem.ch/veranstaltungen/schach-am-samstag-fuer-alle-41/
END:VEVENT
END:VCALENDAR
