BEGIN:VCALENDAR
VERSION:2.0
PRODID:-//UND Generationentandem//NONSGML v1.0//EN
BEGIN:VEVENT
UID:69e8af9e6a24e@generationentandem.ch
DTSTAMP:20260422T112310Z
DTSTART:20240914T080000Z
DTEND:20240914T090000Z
SUMMARY:Generationen im Dialog
DESCRIPTION:Jetzt hast du die einzigartige Gelegenheit, die Person kennenzulernen, die am wenigsten zu dir passt! Erlebe eine Begegnung der besonderen Art, bei der du lustvoll mit Menschen anderer Generationen über Gott und die Welt streiten kannst. \n
LOCATION:Pavillon
URL:https://generationentandem.ch/veranstaltungen/generationen-im-dialog/
END:VEVENT
END:VCALENDAR
