BEGIN:VCALENDAR
VERSION:2.0
PRODID:-//UND Generationentandem//NONSGML v1.0//EN
BEGIN:VEVENT
UID:69e9eb1b67fe3@generationentandem.ch
DTSTAMP:20260423T094915Z
DTSTART:20250620T170000Z
DTEND:20250620T180000Z
SUMMARY:Verschoben: Wort und Klang – Talk und Film mit Paul Hutzli
DESCRIPTION:Weitere Informationen folgen. 
LOCATION:Offenes Höchhus, Höchhusweg 17, Steffisburg
URL:https://generationentandem.ch/veranstaltungen/paul-hutzli/
END:VEVENT
END:VCALENDAR
