BEGIN:VCALENDAR
VERSION:2.0
PRODID:-//UND Generationentandem//NONSGML v1.0//EN
BEGIN:VEVENT
UID:69e9eb1bdb712@generationentandem.ch
DTSTAMP:20260423T094915Z
DTSTART:20250927T110000Z
DTEND:20250927T120000Z
SUMMARY:Tauschen statt kaufen: Stoffe und Nähutensilien
DESCRIPTION:Stoffreste, Garne, Schnittmuster und kreative Ideen gehen auf neue Reisen.
LOCATION:Offenes Höchhus
URL:https://generationentandem.ch/veranstaltungen/tauschen-statt-kaufen-stoffe-und-naehutensilien/
END:VEVENT
END:VCALENDAR
