BEGIN:VCALENDAR
VERSION:2.0
PRODID:-//UND Generationentandem//NONSGML v1.0//EN
BEGIN:VEVENT
UID:69e9ff712d37c@generationentandem.ch
DTSTAMP:20260423T111601Z
DTSTART:20260303T180000Z
DTEND:20260303T190000Z
SUMMARY:UND-Runde: Helfersyndrom – Wem hilft Hilfe?
DESCRIPTION:Fragen, auf die es (fast) keine Antworten gibt!\nDie kleinen Fragen sind manchmal die ganz grossen. Fragen vereinen uns, egal wie alt wir sind und was wir schon erlebt haben. Wir gehen in der UND-Runde gemeinsam auf Antwortsuche. Ein Generationentandem lanciert zu Beginn das Gespräch mit ersten Gedanken – danach sind alle eingeladen, ihre Antwortversuche einzubringen. 
LOCATION:Begegnungszentrum, Höchhusweg 17, Steffisburg
URL:https://generationentandem.ch/veranstaltungen/und-runde-maerz/
END:VEVENT
END:VCALENDAR
